BEGIN:VCALENDAR
PRODID:-//SINGPromos.com//NONSGML v1.0//EN
VERSION:2.0
CALSCALE:GREGORIAN
METHOD:PUBLISH
X-WR-CALNAME:SINGPromos.com
X-ORIGINAL-URL:https://singpromos.com
X-WR-CALDESC:Events for SINGPromos.com
BEGIN:VEVENT
DTSTART:20140428T000000
DTEND:20140505T235900
DTSTAMP:20260420T044957
CREATED:20140429T085652
LAST-MODIFIED:20140504T104710
UID:95365@https://singpromos.com
SUMMARY:Yamaha Audio Visual Showroom Anniversary SALE 28 Apr - 5 May 2014
DESCRIPTION:Enjoy discounts on selected models. For more information, visit [ https://singpromos.com/audio-visual/yamaha-audio-visual-showroom-anniversary-sale-28-apr-5-may-2014-95365/ ]. 
LOCATION:6 Raffles Boulevard, 039594
URL:https://singpromos.com/audio-visual/yamaha-audio-visual-showroom-anniversary-sale-28-apr-5-may-2014-95365/
END:VEVENT
END:VCALENDAR