BEGIN:VCALENDAR
PRODID:-//SINGPromos.com//NONSGML v1.0//EN
VERSION:2.0
CALSCALE:GREGORIAN
METHOD:PUBLISH
X-WR-CALNAME:SINGPromos.com
X-ORIGINAL-URL:https://singpromos.com
X-WR-CALDESC:Events for SINGPromos.com
BEGIN:VEVENT
DTSTART:20140502T000000
DTEND:20140504T235900
DTSTAMP:20260420T045004
CREATED:20140429T105851
LAST-MODIFIED:20140429T105917
UID:95375@https://singpromos.com
SUMMARY:Toys "R" Us Stock Clearance SALE @ United Square 2 - 4 May 2014
DESCRIPTION:Enjoy discounts of more than 50% OFF. For more information, visit [ https://singpromos.com/warehouse-sales/toys-r-us-stock-clearance-sale-united-square-2-4-may-2014-95375/ ]. 
LOCATION:307591
URL:https://singpromos.com/warehouse-sales/toys-r-us-stock-clearance-sale-united-square-2-4-may-2014-95375/
END:VEVENT
END:VCALENDAR