BEGIN:VCALENDAR
PRODID:-//SINGPromos.com//NONSGML v1.0//EN
VERSION:2.0
CALSCALE:GREGORIAN
METHOD:PUBLISH
X-WR-CALNAME:SINGPromos.com
X-ORIGINAL-URL:https://singpromos.com
X-WR-CALDESC:Events for SINGPromos.com
BEGIN:VEVENT
DTSTART:20140430T000000
DTEND:20140608T235900
DTSTAMP:20260420T045005
CREATED:20140429T140319
LAST-MODIFIED:20140528T145945
UID:95379@https://singpromos.com
SUMMARY:Marks & Spencer SALE (Final Reductions!) 30 Apr 2014
DESCRIPTION:Marks & Spencer will be having a sale from 30 April 2014. For more information, visit [ https://singpromos.com/fashion-accessories/marks-spencer-sale-from-30-apr-2014-95379/ ]. 
LOCATION:
URL:https://singpromos.com/fashion-accessories/marks-spencer-sale-from-30-apr-2014-95379/
END:VEVENT
END:VCALENDAR