BEGIN:VCALENDAR
PRODID:-//SINGPromos.com//NONSGML v1.0//EN
VERSION:2.0
CALSCALE:GREGORIAN
METHOD:PUBLISH
X-WR-CALNAME:SINGPromos.com
X-ORIGINAL-URL:https://singpromos.com
X-WR-CALDESC:Events for SINGPromos.com
BEGIN:VEVENT
DTSTART:20140429T000000
DTEND:20140430T235900
DTSTAMP:20260420T044958
CREATED:20140429T141626
LAST-MODIFIED:20140429T141626
UID:95382@https://singpromos.com
SUMMARY:Hotels.com Up To 40% OFF Spring SALE 29 - 30 Apr 2014
DESCRIPTION:Save up to 50% at Hotel.Com's Global 48 hour sale till 30 April 2014. For more information, visit [ https://singpromos.com/vacations/hotels-com-up-to-40-off-spring-sale-29-30-apr-2014-95382/ ]. 
LOCATION:
URL:https://singpromos.com/vacations/hotels-com-up-to-40-off-spring-sale-29-30-apr-2014-95382/
END:VEVENT
END:VCALENDAR