BEGIN:VCALENDAR
PRODID:-//SINGPromos.com//NONSGML v1.0//EN
VERSION:2.0
CALSCALE:GREGORIAN
METHOD:PUBLISH
X-WR-CALNAME:SINGPromos.com
X-ORIGINAL-URL:https://singpromos.com
X-WR-CALDESC:Events for SINGPromos.com
BEGIN:VEVENT
DTSTART:20140605T000000
DTEND:20140608T235900
DTSTAMP:20260420T045004
CREATED:20140429T145803
LAST-MODIFIED:20140613T111721
UID:95386@https://singpromos.com
SUMMARY:PC SHOW 2014 Price List, Floor Plans & Hot Deals 5 - 8 Jun 2014
DESCRIPTION:PC SHOW 2014 is the next IT SHOW to be held from 5 June to 8 June 2014 at Singapore Expo. For more information, visit [ https://singpromos.com/happenings/pc-show-2014-price-list-floor-plans-hot-deals-5-8-jun-2014-95386/ ]. 
LOCATION:486150
URL:https://singpromos.com/happenings/pc-show-2014-price-list-floor-plans-hot-deals-5-8-jun-2014-95386/
END:VEVENT
END:VCALENDAR