BEGIN:VCALENDAR
PRODID:-//SINGPromos.com//NONSGML v1.0//EN
VERSION:2.0
CALSCALE:GREGORIAN
METHOD:PUBLISH
X-WR-CALNAME:SINGPromos.com
X-ORIGINAL-URL:https://singpromos.com
X-WR-CALDESC:Events for SINGPromos.com
BEGIN:VEVENT
DTSTART:20140429T000000
DTEND:20140511T235900
DTSTAMP:20260420T044957
CREATED:20140429T161101
LAST-MODIFIED:20140429T161101
UID:95389@https://singpromos.com
SUMMARY:Maybank Apply For Platinum Visa Card & Get FREE 24 Movies 29 Apr 2014
DESCRIPTION:Enjoy 24 FREE movies at Cathay Cineplexes when you apply for a Maybank Platinum Visa Card. Come with 3-year annual fee waiver. For more information, visit [ https://singpromos.com/places-of-interest/maybank-apply-for-platinum-visa-card-get-free-24-movies-29-apr-2014-95389/ ]. 
LOCATION:
URL:https://singpromos.com/places-of-interest/maybank-apply-for-platinum-visa-card-get-free-24-movies-29-apr-2014-95389/
END:VEVENT
END:VCALENDAR