BEGIN:VCALENDAR
PRODID:-//SINGPromos.com//NONSGML v1.0//EN
VERSION:2.0
CALSCALE:GREGORIAN
METHOD:PUBLISH
X-WR-CALNAME:SINGPromos.com
X-ORIGINAL-URL:https://singpromos.com
X-WR-CALDESC:Events for SINGPromos.com
BEGIN:VEVENT
DTSTART:20140428T000000
DTEND:20140511T235900
DTSTAMP:20260420T045005
CREATED:20140429T170306
LAST-MODIFIED:20140429T170852
UID:95395@https://singpromos.com
SUMMARY:The Cocoa Trees 30% Off Selected Items 28 Apr - 11 May 2014
DESCRIPTION:The Cocoa Trees celebrates Mother's Day with 30% off selected items. For more information, visit [ https://singpromos.com/dining-restaurants-food/the-cocoa-trees-30-off-selected-items-28-apr-11-may-2014-95395/ ]. 
LOCATION:
URL:https://singpromos.com/dining-restaurants-food/the-cocoa-trees-30-off-selected-items-28-apr-11-may-2014-95395/
END:VEVENT
END:VCALENDAR