BEGIN:VCALENDAR
PRODID:-//SINGPromos.com//NONSGML v1.0//EN
VERSION:2.0
CALSCALE:GREGORIAN
METHOD:PUBLISH
X-WR-CALNAME:SINGPromos.com
X-ORIGINAL-URL:https://singpromos.com
X-WR-CALDESC:Events for SINGPromos.com
BEGIN:VEVENT
DTSTART:20140417T000000
DTEND:20140525T235900
DTSTAMP:20260420T031257
CREATED:20140429T173520
LAST-MODIFIED:20140429T173635
UID:95396@https://singpromos.com
SUMMARY:Maybank Credit Cards FREE Luggage Set Promo 17 Apr - 25 May 2014
DESCRIPTION:Get more with Maybank Credit Cards. Redeem a two piece luggage set for your holiday.. For more information, visit [ https://singpromos.com/banks-credit-cards/maybank-credit-cards-free-luggage-set-promo-17-apr-25-may-2014-95396/ ]. 
LOCATION:
URL:https://singpromos.com/banks-credit-cards/maybank-credit-cards-free-luggage-set-promo-17-apr-25-may-2014-95396/
END:VEVENT
END:VCALENDAR