BEGIN:VCALENDAR
PRODID:-//SINGPromos.com//NONSGML v1.0//EN
VERSION:2.0
CALSCALE:GREGORIAN
METHOD:PUBLISH
X-WR-CALNAME:SINGPromos.com
X-ORIGINAL-URL:https://singpromos.com
X-WR-CALDESC:Events for SINGPromos.com
BEGIN:VEVENT
DTSTART:20140501T000000
DTEND:20140501T235900
DTSTAMP:20260420T031140
CREATED:20140429T170941
LAST-MODIFIED:20140429T171208
UID:95399@https://singpromos.com
SUMMARY:Timezone 100% Extra Double Dollar Promo 1 May 2014
DESCRIPTION:Buy $20 and get an additional $20 FREE!. For more information, visit [ https://singpromos.com/places-of-interest/timezone-100-extra-double-dollar-promo-1-may-2014-95399/ ]. 
LOCATION:
URL:https://singpromos.com/places-of-interest/timezone-100-extra-double-dollar-promo-1-may-2014-95399/
END:VEVENT
END:VCALENDAR