BEGIN:VCALENDAR
PRODID:-//SINGPromos.com//NONSGML v1.0//EN
VERSION:2.0
CALSCALE:GREGORIAN
METHOD:PUBLISH
X-WR-CALNAME:SINGPromos.com
X-ORIGINAL-URL:https://singpromos.com
X-WR-CALDESC:Events for SINGPromos.com
BEGIN:VEVENT
DTSTART:20140429T000000
DTEND:20140601T235900
DTSTAMP:20260422T082138
CREATED:20140429T172705
LAST-MODIFIED:20140510T232553
UID:95407@https://singpromos.com
SUMMARY:French Connection (FCUK) Clearance SALE @ IMM 29 Apr - 1 Jun 2014
DESCRIPTION:Enjoy up to 80% OFF. Additional 10% OFF any 2 pieces and above.. For more information, visit [ https://singpromos.com/warehouse-sales/french-connection-fcuk-clearance-sale-imm-29-apr-2014-95407/ ]. 
LOCATION:609601
URL:https://singpromos.com/warehouse-sales/french-connection-fcuk-clearance-sale-imm-29-apr-2014-95407/
END:VEVENT
END:VCALENDAR