BEGIN:VCALENDAR
PRODID:-//SINGPromos.com//NONSGML v1.0//EN
VERSION:2.0
CALSCALE:GREGORIAN
METHOD:PUBLISH
X-WR-CALNAME:SINGPromos.com
X-ORIGINAL-URL:https://singpromos.com
X-WR-CALDESC:Events for SINGPromos.com
BEGIN:VEVENT
DTSTART:20140429T000000
DTEND:20140512T235900
DTSTAMP:20260420T031122
CREATED:20140429T174242
LAST-MODIFIED:20140429T174840
UID:95416@https://singpromos.com
SUMMARY:Amazon.com 20% OFF Handbags, Slippers, Wallets & More Coupon Code 29 Apr - 12 May 2014
DESCRIPTION:Get 25% off Mother's Day Gifts handbags, slippers, wallets and more with the coupon code below. For more information, visit [ https://singpromos.com/fashion-accessories/amazon-com-20-off-handbags-slippers-wallets-more-coupon-code-29-apr-12-may-2014-95416/ ]. 
LOCATION:
URL:https://singpromos.com/fashion-accessories/amazon-com-20-off-handbags-slippers-wallets-more-coupon-code-29-apr-12-may-2014-95416/
END:VEVENT
END:VCALENDAR