BEGIN:VCALENDAR
PRODID:-//SINGPromos.com//NONSGML v1.0//EN
VERSION:2.0
CALSCALE:GREGORIAN
METHOD:PUBLISH
X-WR-CALNAME:SINGPromos.com
X-ORIGINAL-URL:https://singpromos.com
X-WR-CALDESC:Events for SINGPromos.com
BEGIN:VEVENT
DTSTART:20140501T000000
DTEND:20140511T235900
DTSTAMP:20260420T031139
CREATED:20140430T084440
LAST-MODIFIED:20140429T232845
UID:95423@https://singpromos.com
SUMMARY:Swissbake Buy 500g+ Cake & Get Free $10 Voucher 1 - 11 May 2014
DESCRIPTION:Purchase any cakes above 500g and get a FREE $10 Swissbake voucher. For more information, visit [ https://singpromos.com/dining-restaurants-food/swissbake-buy-500g-cake-get-free-10-voucher-1-11-may-2014-95423/ ]. 
LOCATION:
URL:https://singpromos.com/dining-restaurants-food/swissbake-buy-500g-cake-get-free-10-voucher-1-11-may-2014-95423/
END:VEVENT
END:VCALENDAR