BEGIN:VCALENDAR
PRODID:-//SINGPromos.com//NONSGML v1.0//EN
VERSION:2.0
CALSCALE:GREGORIAN
METHOD:PUBLISH
X-WR-CALNAME:SINGPromos.com
X-ORIGINAL-URL:https://singpromos.com
X-WR-CALDESC:Events for SINGPromos.com
BEGIN:VEVENT
DTSTART:20140430T000000
DTEND:20140502T235900
DTSTAMP:20260420T031124
CREATED:20140430T104202
LAST-MODIFIED:20140501T164005
UID:95433@https://singpromos.com
SUMMARY:POSB 1.38% p.a. Fixed Deposit Labour Day Promo 30 Apr - 2 May 2014
DESCRIPTION:Apply via iBanking today. Limited to S$10,000 per customer.. For more information, visit [ https://singpromos.com/banks-credit-cards/posb-1-38-p-a-fixed-deposit-labour-day-promo-30-apr-2-may-2014-95433/ ]. 
LOCATION:
URL:https://singpromos.com/banks-credit-cards/posb-1-38-p-a-fixed-deposit-labour-day-promo-30-apr-2-may-2014-95433/
END:VEVENT
END:VCALENDAR