BEGIN:VCALENDAR
PRODID:-//SINGPromos.com//NONSGML v1.0//EN
VERSION:2.0
CALSCALE:GREGORIAN
METHOD:PUBLISH
X-WR-CALNAME:SINGPromos.com
X-ORIGINAL-URL:https://singpromos.com
X-WR-CALDESC:Events for SINGPromos.com
BEGIN:VEVENT
DTSTART:20140430T000000
DTEND:20140503T235900
DTSTAMP:20260420T031139
CREATED:20140430T110637
LAST-MODIFIED:20140503T104316
UID:95442@https://singpromos.com
SUMMARY:Scoot Airlines From $1.50 Promo Air Fares 30 Apr - 3 May 2014
DESCRIPTION:Bangkok from $1.50, Hong Kong from $1.50, Taipei from $15, Perth from $15, Sydney/Gold Coast from $51, Tianjin from $15 and more. For more information, visit [ https://singpromos.com/airlines-flights/scoot-airlines-from-1-50-promo-air-fares-30-apr-2-may-2014-95442/ ]. 
LOCATION:
URL:https://singpromos.com/airlines-flights/scoot-airlines-from-1-50-promo-air-fares-30-apr-2-may-2014-95442/
END:VEVENT
END:VCALENDAR