BEGIN:VCALENDAR
PRODID:-//SINGPromos.com//NONSGML v1.0//EN
VERSION:2.0
CALSCALE:GREGORIAN
METHOD:PUBLISH
X-WR-CALNAME:SINGPromos.com
X-ORIGINAL-URL:https://singpromos.com
X-WR-CALDESC:Events for SINGPromos.com
BEGIN:VEVENT
DTSTART:20140427T000000
DTEND:20140506T235900
DTSTAMP:20260420T031139
CREATED:20140430T112235
LAST-MODIFIED:20140624T103610
UID:95447@https://singpromos.com
SUMMARY:Sea Horse Furniture Promotion Offers 27 Apr - 6 May 2014
DESCRIPTION:Any product purchase will entitle you a 15% discount coupon for the purchase of Ocean Park Hong Kong admission tickets. For more information, visit [ https://singpromos.com/furniture/sea-horse-furniture-promotion-offers-27-apr-6-may-2014-95447/ ]. 
LOCATION:
URL:https://singpromos.com/furniture/sea-horse-furniture-promotion-offers-27-apr-6-may-2014-95447/
END:VEVENT
END:VCALENDAR