BEGIN:VCALENDAR
PRODID:-//SINGPromos.com//NONSGML v1.0//EN
VERSION:2.0
CALSCALE:GREGORIAN
METHOD:PUBLISH
X-WR-CALNAME:SINGPromos.com
X-ORIGINAL-URL:https://singpromos.com
X-WR-CALDESC:Events for SINGPromos.com
BEGIN:VEVENT
DTSTART:20140430T000000
DTEND:20140504T235900
DTSTAMP:20260420T031139
CREATED:20140430T120827
LAST-MODIFIED:20140430T120827
UID:95463@https://singpromos.com
SUMMARY:Cold Storage New Moon Abalone, Magnum Ice Cream, Wine & Other Grocery Offers 30 Apr - 4 May 2014
DESCRIPTION:Special offers for New Moon Abalone Chile, Lindt Lindor Milk Chocolate Gift Box, Magnum Ice Cream and more. For more information, visit [ https://singpromos.com/dining-restaurants-food/cold-storage-new-moon-abalone-magnum-ice-cream-wine-other-grocery-offers-30-apr-4-may-2014-95463/ ]. 
LOCATION:
URL:https://singpromos.com/dining-restaurants-food/cold-storage-new-moon-abalone-magnum-ice-cream-wine-other-grocery-offers-30-apr-4-may-2014-95463/
END:VEVENT
END:VCALENDAR