BEGIN:VCALENDAR
PRODID:-//SINGPromos.com//NONSGML v1.0//EN
VERSION:2.0
CALSCALE:GREGORIAN
METHOD:PUBLISH
X-WR-CALNAME:SINGPromos.com
X-ORIGINAL-URL:https://singpromos.com
X-WR-CALDESC:Events for SINGPromos.com
BEGIN:VEVENT
DTSTART:20140430T000000
DTEND:20140508T235900
DTSTAMP:20260420T031123
CREATED:20140430T145746
LAST-MODIFIED:20140509T001230
UID:95480@https://singpromos.com
SUMMARY:(Over 8K Sold) Toast Box 20% OFF Cash Voucher Valid @ 64 Locations 30 Apr 2014
DESCRIPTION:Get $10 Toast Box Gift Vouchers valid at all 64 locations at only $8 - that's 20% OFF the usual price! Learn how to get this deal before it ends soon. For more information, visit [ https://singpromos.com/dining-restaurants-food/toast-box-20-off-cash-voucher-valid-64-locations-30-apr-2014-95480/ ]. 
LOCATION:
URL:https://singpromos.com/dining-restaurants-food/toast-box-20-off-cash-voucher-valid-64-locations-30-apr-2014-95480/
END:VEVENT
END:VCALENDAR