BEGIN:VCALENDAR
PRODID:-//SINGPromos.com//NONSGML v1.0//EN
VERSION:2.0
CALSCALE:GREGORIAN
METHOD:PUBLISH
X-WR-CALNAME:SINGPromos.com
X-ORIGINAL-URL:https://singpromos.com
X-WR-CALDESC:Events for SINGPromos.com
BEGIN:VEVENT
DTSTART:20140430T000000
DTEND:20140504T235900
DTSTAMP:20260420T031140
CREATED:20140430T160516
LAST-MODIFIED:20140430T160533
UID:95488@https://singpromos.com
SUMMARY:TigerAir From $49 Thailand Promo Air Fares 30 Apr - 4 May 2014
DESCRIPTION:Now as affordable as a tuk-tuk ride around town. Krabi from $49, Phuket from $49 and Bangkok from $59. For more information, visit [ https://singpromos.com/airlines-flights/tigerair-from-49-thailand-promo-air-fares-30-apr-4-may-2014-95488/ ]. 
LOCATION:
URL:https://singpromos.com/airlines-flights/tigerair-from-49-thailand-promo-air-fares-30-apr-4-may-2014-95488/
END:VEVENT
END:VCALENDAR