BEGIN:VCALENDAR
PRODID:-//SINGPromos.com//NONSGML v1.0//EN
VERSION:2.0
CALSCALE:GREGORIAN
METHOD:PUBLISH
X-WR-CALNAME:SINGPromos.com
X-ORIGINAL-URL:https://singpromos.com
X-WR-CALDESC:Events for SINGPromos.com
BEGIN:VEVENT
DTSTART:20140503T000000
DTEND:20140504T235900
DTSTAMP:20260420T031139
CREATED:20140430T180115
LAST-MODIFIED:20140430T180115
UID:95492@https://singpromos.com
SUMMARY:Brandt Up To 80% OFF Warehouse SALE 3 - 4 May 2014
DESCRIPTION:Clearing display, dented and discontinued sets at up to 80% OFF. For more information, visit [ https://singpromos.com/warehouse-sales/brandt-up-to-80-off-warehouse-sale-3-4-may-2014-95492/ ]. 
LOCATION:7 Jalan Kilang, 159407
URL:https://singpromos.com/warehouse-sales/brandt-up-to-80-off-warehouse-sale-3-4-may-2014-95492/
END:VEVENT
END:VCALENDAR