BEGIN:VCALENDAR
PRODID:-//SINGPromos.com//NONSGML v1.0//EN
VERSION:2.0
CALSCALE:GREGORIAN
METHOD:PUBLISH
X-WR-CALNAME:SINGPromos.com
X-ORIGINAL-URL:https://singpromos.com
X-WR-CALDESC:Events for SINGPromos.com
BEGIN:VEVENT
DTSTART:20140501T000000
DTEND:20140507T235900
DTSTAMP:20260420T012124
CREATED:20140430T185956
LAST-MODIFIED:20140430T185956
UID:95498@https://singpromos.com
SUMMARY:Desigual Buy 2 Items & Get 20% OFF Promo 1 - 7 May 2014
DESCRIPTION:Buy 2 items and get 20% OFF. For more information, visit [ https://singpromos.com/fashion-accessories/desigual-buy-2-items-get-20-off-promo-1-7-may-2014-95498/ ]. 
LOCATION:
URL:https://singpromos.com/fashion-accessories/desigual-buy-2-items-get-20-off-promo-1-7-may-2014-95498/
END:VEVENT
END:VCALENDAR