BEGIN:VCALENDAR
PRODID:-//SINGPromos.com//NONSGML v1.0//EN
VERSION:2.0
CALSCALE:GREGORIAN
METHOD:PUBLISH
X-WR-CALNAME:SINGPromos.com
X-ORIGINAL-URL:https://singpromos.com
X-WR-CALDESC:Events for SINGPromos.com
BEGIN:VEVENT
DTSTART:20140430T000000
DTEND:20140504T235900
DTSTAMP:20260420T012151
CREATED:20140430T190421
LAST-MODIFIED:20140430T190421
UID:95501@https://singpromos.com
SUMMARY:World of Sports 40% OFF Selected Items Promo 30 Apr - 4 May 2014
DESCRIPTION:Enjoy 40% off selected items at World of Sports, World of Outdoors, Mizuno, Columbia and more. For more information, visit [ https://singpromos.com/sports/world-of-sports-40-off-selected-items-promo-30-apr-4-may-2014-95501/ ]. 
LOCATION:
URL:https://singpromos.com/sports/world-of-sports-40-off-selected-items-promo-30-apr-4-may-2014-95501/
END:VEVENT
END:VCALENDAR