BEGIN:VCALENDAR
PRODID:-//SINGPromos.com//NONSGML v1.0//EN
VERSION:2.0
CALSCALE:GREGORIAN
METHOD:PUBLISH
X-WR-CALNAME:SINGPromos.com
X-ORIGINAL-URL:https://singpromos.com
X-WR-CALDESC:Events for SINGPromos.com
BEGIN:VEVENT
DTSTART:20140501T000000
DTEND:20140504T235900
DTSTAMP:20260420T012124
CREATED:20140430T190550
LAST-MODIFIED:20140430T190921
UID:95504@https://singpromos.com
SUMMARY:New Look 15% OFF Storewide Labour Day Special 1 - 4 May 2014
DESCRIPTION:Valid on regular priced items only.. For more information, visit [ https://singpromos.com/fashion-accessories/new-look-15-off-storewide-labour-day-special-1-4-may-2014-95504/ ]. 
LOCATION:
URL:https://singpromos.com/fashion-accessories/new-look-15-off-storewide-labour-day-special-1-4-may-2014-95504/
END:VEVENT
END:VCALENDAR