BEGIN:VCALENDAR
PRODID:-//SINGPromos.com//NONSGML v1.0//EN
VERSION:2.0
CALSCALE:GREGORIAN
METHOD:PUBLISH
X-WR-CALNAME:SINGPromos.com
X-ORIGINAL-URL:https://singpromos.com
X-WR-CALDESC:Events for SINGPromos.com
BEGIN:VEVENT
DTSTART:20140501T000000
DTEND:20140504T235900
DTSTAMP:20260420T012217
CREATED:20140430T191315
LAST-MODIFIED:20140430T191557
UID:95510@https://singpromos.com
SUMMARY:Forever 21 Buy 2 Get 1 FREE Promo 1 - 4 May 2014
DESCRIPTION:Buy 2 and get 1 FREE on all shoes, jewellery, camis and handbags. For more information, visit [ https://singpromos.com/fashion-accessories/forever-21-buy-2-get-1-free-promo-1-4-may-2014-95510/ ]. 
LOCATION:
URL:https://singpromos.com/fashion-accessories/forever-21-buy-2-get-1-free-promo-1-4-may-2014-95510/
END:VEVENT
END:VCALENDAR