BEGIN:VCALENDAR
PRODID:-//SINGPromos.com//NONSGML v1.0//EN
VERSION:2.0
CALSCALE:GREGORIAN
METHOD:PUBLISH
X-WR-CALNAME:SINGPromos.com
X-ORIGINAL-URL:https://singpromos.com
X-WR-CALDESC:Events for SINGPromos.com
BEGIN:VEVENT
DTSTART:20140430T000000
DTEND:20140504T235900
DTSTAMP:20260420T012151
CREATED:20140430T192212
LAST-MODIFIED:20140430T192212
UID:95513@https://singpromos.com
SUMMARY:J Shoes 50% OFF Winter Styles Promo 30 Apr 2014
DESCRIPTION:Enjoy 50% OFF winter styles at J Shoes for a limited time. For more information, visit [ https://singpromos.com/footwear/j-shoes-50-off-winter-styles-promo-30-apr-2014-95513/ ]. 
LOCATION:
URL:https://singpromos.com/footwear/j-shoes-50-off-winter-styles-promo-30-apr-2014-95513/
END:VEVENT
END:VCALENDAR