BEGIN:VCALENDAR
PRODID:-//SINGPromos.com//NONSGML v1.0//EN
VERSION:2.0
CALSCALE:GREGORIAN
METHOD:PUBLISH
X-WR-CALNAME:SINGPromos.com
X-ORIGINAL-URL:https://singpromos.com
X-WR-CALDESC:Events for SINGPromos.com
BEGIN:VEVENT
DTSTART:20140430T000000
DTEND:20140504T235900
DTSTAMP:20260420T012151
CREATED:20140430T193950
LAST-MODIFIED:20140430T194221
UID:95516@https://singpromos.com
SUMMARY:Uniqlo Fashion Promo Deals @ Islandwide 30 Apr - 4 May 2014
DESCRIPTION:Uniqlo comfortable SUPIMA COTTON T-shirts and Leggings Jeans are on limited offer.. For more information, visit [ https://singpromos.com/fashion-accessories/uniqlo-fashion-promo-deals-islandwide-30-apr-4-may-2014-95516/ ]. 
LOCATION:
URL:https://singpromos.com/fashion-accessories/uniqlo-fashion-promo-deals-islandwide-30-apr-4-may-2014-95516/
END:VEVENT
END:VCALENDAR