BEGIN:VCALENDAR
PRODID:-//SINGPromos.com//NONSGML v1.0//EN
VERSION:2.0
CALSCALE:GREGORIAN
METHOD:PUBLISH
X-WR-CALNAME:SINGPromos.com
X-ORIGINAL-URL:https://singpromos.com
X-WR-CALDESC:Events for SINGPromos.com
BEGIN:VEVENT
DTSTART:20140501T000000
DTEND:20140501T235900
DTSTAMP:20260420T012151
CREATED:20140430T194817
LAST-MODIFIED:20140430T194859
UID:95524@https://singpromos.com
SUMMARY:Istana Open House FREE Admission For Singaporeans & PRs 1 May 2014
DESCRIPTION:The Istana grounds will be open to the public on Thursday, 1 May 2014, from 8.30am to 6.00pm, in celebration of Labour Day. For more information, visit [ https://singpromos.com/places-of-interest/istana-open-house-free-admission-for-singaporeans-prs-1-may-2014-95524/ ]. 
LOCATION:238823
URL:https://singpromos.com/places-of-interest/istana-open-house-free-admission-for-singaporeans-prs-1-may-2014-95524/
END:VEVENT
END:VCALENDAR