BEGIN:VCALENDAR
PRODID:-//SINGPromos.com//NONSGML v1.0//EN
VERSION:2.0
CALSCALE:GREGORIAN
METHOD:PUBLISH
X-WR-CALNAME:SINGPromos.com
X-ORIGINAL-URL:https://singpromos.com
X-WR-CALDESC:Events for SINGPromos.com
BEGIN:VEVENT
DTSTART:20140501T000000
DTEND:20140504T235900
DTSTAMP:20260420T012151
CREATED:20140430T202202
LAST-MODIFIED:20140430T202338
UID:95527@https://singpromos.com
SUMMARY:OG 20% OFF Storewide Labour Day Promo 1 - 4 May 2014
DESCRIPTION:Applies to most brands regular-priced items, exclusions apply, check in-store for details.. For more information, visit [ https://singpromos.com/department-stores/og-20-off-storewide-labour-day-promo-1-4-may-2014-95527/ ]. 
LOCATION:
URL:https://singpromos.com/department-stores/og-20-off-storewide-labour-day-promo-1-4-may-2014-95527/
END:VEVENT
END:VCALENDAR