BEGIN:VCALENDAR
PRODID:-//SINGPromos.com//NONSGML v1.0//EN
VERSION:2.0
CALSCALE:GREGORIAN
METHOD:PUBLISH
X-WR-CALNAME:SINGPromos.com
X-ORIGINAL-URL:https://singpromos.com
X-WR-CALDESC:Events for SINGPromos.com
BEGIN:VEVENT
DTSTART:20140501T000000
DTEND:20140608T235900
DTSTAMP:20260422T082240
CREATED:20140501T124611
LAST-MODIFIED:20140501T124611
UID:95592@https://singpromos.com
SUMMARY:Fashion Fast Forward F3 Star Mid Season SALE 1 May - 8 Jun 2014
DESCRIPTION:Enjoy up to 50% Off Ben Sherman, Dorothy Perkins, Miss Selfridge, Topman and Topshop. For more information, visit [ https://singpromos.com/fashion-accessories/fashion-fast-forward-f3-star-mid-season-sale-1-may-8-jun-2014-95592/ ]. 
LOCATION:
URL:https://singpromos.com/fashion-accessories/fashion-fast-forward-f3-star-mid-season-sale-1-may-8-jun-2014-95592/
END:VEVENT
END:VCALENDAR