BEGIN:VCALENDAR
PRODID:-//SINGPromos.com//NONSGML v1.0//EN
VERSION:2.0
CALSCALE:GREGORIAN
METHOD:PUBLISH
X-WR-CALNAME:SINGPromos.com
X-ORIGINAL-URL:https://singpromos.com
X-WR-CALDESC:Events for SINGPromos.com
BEGIN:VEVENT
DTSTART:20140501T000000
DTEND:20140630T235900
DTSTAMP:20260420T052603
CREATED:20140501T215849
LAST-MODIFIED:20140607T232454
UID:95670@https://singpromos.com
SUMMARY:Cristofori Piano Offers 1 May - 30 Jun 2014
DESCRIPTION:Piano Kingdom at Cristofori. Germany, Korea, China, Japan and more. For more information, visit [ https://singpromos.com/music/cristofori-piano-offers-1-may-30-jun-2014-95670/ ]. 
LOCATION:
URL:https://singpromos.com/music/cristofori-piano-offers-1-may-30-jun-2014-95670/
END:VEVENT
END:VCALENDAR