BEGIN:VCALENDAR
PRODID:-//SINGPromos.com//NONSGML v1.0//EN
VERSION:2.0
CALSCALE:GREGORIAN
METHOD:PUBLISH
X-WR-CALNAME:SINGPromos.com
X-ORIGINAL-URL:https://singpromos.com
X-WR-CALDESC:Events for SINGPromos.com
BEGIN:VEVENT
DTSTART:20140501T000000
DTEND:20140504T235900
DTSTAMP:20260422T082303
CREATED:20140502T073420
LAST-MODIFIED:20140502T003536
UID:95739@https://singpromos.com
SUMMARY:Winter Time Up to 70% Off Warehouse SALE 1 - 4 May 2014
DESCRIPTION:Winter Time is having a Warehouse SALE at three outlets from 1 May to 4 May 2014. For more information, visit [ https://singpromos.com/warehouse-sales/winter-time-up-to-70-off-warehouse-sale-1-4-may-2014-95739/ ]. 
LOCATION:
URL:https://singpromos.com/warehouse-sales/winter-time-up-to-70-off-warehouse-sale-1-4-may-2014-95739/
END:VEVENT
END:VCALENDAR