BEGIN:VCALENDAR
PRODID:-//SINGPromos.com//NONSGML v1.0//EN
VERSION:2.0
CALSCALE:GREGORIAN
METHOD:PUBLISH
X-WR-CALNAME:SINGPromos.com
X-ORIGINAL-URL:https://singpromos.com
X-WR-CALDESC:Events for SINGPromos.com
BEGIN:VEVENT
DTSTART:20140502T000000
DTEND:20140515T235900
DTSTAMP:20260424T034605
CREATED:20140502T180309
LAST-MODIFIED:20140502T180309
UID:95841@https://singpromos.com
SUMMARY:Giant Hypermarket Mozzie Fighters, Groceries & Fitness Machine Offers 2 - 15 May 2014
DESCRIPTION:Free $1 Giant voucher with $5 worth of any Nissin & Myojo noodles. Duracell 12pcs AA/AAA batteries at $7.80. For more information, visit [ https://singpromos.com/department-stores/giant-hypermarket-mozzie-fighters-groceries-fitness-machine-offers-2-15-may-2014-95841/ ]. 
LOCATION:
URL:https://singpromos.com/department-stores/giant-hypermarket-mozzie-fighters-groceries-fitness-machine-offers-2-15-may-2014-95841/
END:VEVENT
END:VCALENDAR