BEGIN:VCALENDAR
PRODID:-//SINGPromos.com//NONSGML v1.0//EN
VERSION:2.0
CALSCALE:GREGORIAN
METHOD:PUBLISH
X-WR-CALNAME:SINGPromos.com
X-ORIGINAL-URL:https://singpromos.com
X-WR-CALDESC:Events for SINGPromos.com
BEGIN:VEVENT
DTSTART:20140417T000000
DTEND:20140528T235900
DTSTAMP:20260420T194747
CREATED:20140503T181444
LAST-MODIFIED:20140503T181444
UID:95874@https://singpromos.com
SUMMARY:Lenovo ThinkPad Notebooks Offers 17 Apr - 28 May 2014
DESCRIPTION:Spring into all things new with Lenovo. For more information, visit [ https://singpromos.com/computers-pc/lenovo-thinkpad-notebooks-offers-17-apr-28-may-2014-95874/ ]. 
LOCATION:
URL:https://singpromos.com/computers-pc/lenovo-thinkpad-notebooks-offers-17-apr-28-may-2014-95874/
END:VEVENT
END:VCALENDAR