BEGIN:VCALENDAR
PRODID:-//SINGPromos.com//NONSGML v1.0//EN
VERSION:2.0
CALSCALE:GREGORIAN
METHOD:PUBLISH
X-WR-CALNAME:SINGPromos.com
X-ORIGINAL-URL:https://singpromos.com
X-WR-CALDESC:Events for SINGPromos.com
BEGIN:VEVENT
DTSTART:20140530T000000
DTEND:20140629T235900
DTSTAMP:20260420T034352
CREATED:20140504T102357
LAST-MODIFIED:20140531T013044
UID:95987@https://singpromos.com
SUMMARY:City Square Mall Barney's World Promotions & Activities 30 May - 29 Jun 2014
DESCRIPTION:Enter Barney's World of Imagination at City Square Mall this June holidays. Go on an exciting new journey with Barney and his friends. For more information, visit [ https://singpromos.com/shopping-malls/city-square-mall-barneys-world-promotions-activities-7-22-jun-2014-95987/ ]. 
LOCATION:208539
URL:https://singpromos.com/shopping-malls/city-square-mall-barneys-world-promotions-activities-7-22-jun-2014-95987/
END:VEVENT
END:VCALENDAR