BEGIN:VCALENDAR
PRODID:-//SINGPromos.com//NONSGML v1.0//EN
VERSION:2.0
CALSCALE:GREGORIAN
METHOD:PUBLISH
X-WR-CALNAME:SINGPromos.com
X-ORIGINAL-URL:https://singpromos.com
X-WR-CALDESC:Events for SINGPromos.com
BEGIN:VEVENT
DTSTART:20140509T000000
DTEND:20140605T235900
DTSTAMP:20260424T034621
CREATED:20140511T142451
LAST-MODIFIED:20140511T142451
UID:96693@https://singpromos.com
SUMMARY:Giant Hypermarket Baby Care, TVs, Brand's & Other Offers 9 May - 5 Jun 2014
DESCRIPTION:Featuring Abbott Products FREE $18 Voucher, FREE $5 Voucher with Brand's, Gifts With love For Mom. For more information, visit [ https://singpromos.com/department-stores/giant-hypermarket-baby-care-tvs-brands-other-offers-9-may-5-jun-2014-96693/ ]. 
LOCATION:
URL:https://singpromos.com/department-stores/giant-hypermarket-baby-care-tvs-brands-other-offers-9-may-5-jun-2014-96693/
END:VEVENT
END:VCALENDAR