BEGIN:VCALENDAR
PRODID:-//SINGPromos.com//NONSGML v1.0//EN
VERSION:2.0
CALSCALE:GREGORIAN
METHOD:PUBLISH
X-WR-CALNAME:SINGPromos.com
X-ORIGINAL-URL:https://singpromos.com
X-WR-CALDESC:Events for SINGPromos.com
BEGIN:VEVENT
DTSTART:20140505T000000
DTEND:20140731T235900
DTSTAMP:20260420T050959
CREATED:20140511T192021
LAST-MODIFIED:20140622T153135
UID:96715@https://singpromos.com
SUMMARY:HP Printers & Scanners Promotion Offers 5 May - 31 Jul 2014
DESCRIPTION:Check out HP's latest offers on their printer and scanner products, valid till 31 July 2014. For more information, visit [ https://singpromos.com/computers-pc/printers/hp-printers-scanners-promotion-offers-5-may-29-jun-2014-96715/ ]. 
LOCATION:
URL:https://singpromos.com/computers-pc/printers/hp-printers-scanners-promotion-offers-5-may-29-jun-2014-96715/
END:VEVENT
END:VCALENDAR