BEGIN:VCALENDAR
PRODID:-//SINGPromos.com//NONSGML v1.0//EN
VERSION:2.0
CALSCALE:GREGORIAN
METHOD:PUBLISH
X-WR-CALNAME:SINGPromos.com
X-ORIGINAL-URL:https://singpromos.com
X-WR-CALDESC:Events for SINGPromos.com
BEGIN:VEVENT
DTSTART:20140517T000000
DTEND:20140525T235900
DTSTAMP:20260420T203414
CREATED:20140513T103259
LAST-MODIFIED:20140606T103019
UID:96870@https://singpromos.com
SUMMARY:NDP 2014 Tickets Application Dates & Procedures 17 - 25 May 2014
DESCRIPTION:Apply for tickets to the NDP Preview and actual National Day Parade, from 17 to 25 May 2014.. For more information, visit [ https://singpromos.com/happenings/ndp-2014-tickets-application-dates-procedures-17-26-may-2014-96870/ ]. 
LOCATION:
URL:https://singpromos.com/happenings/ndp-2014-tickets-application-dates-procedures-17-26-may-2014-96870/
END:VEVENT
END:VCALENDAR