BEGIN:VCALENDAR
PRODID:-//SINGPromos.com//NONSGML v1.0//EN
VERSION:2.0
CALSCALE:GREGORIAN
METHOD:PUBLISH
X-WR-CALNAME:SINGPromos.com
X-ORIGINAL-URL:https://singpromos.com
X-WR-CALDESC:Events for SINGPromos.com
BEGIN:VEVENT
DTSTART:20140516T000000
DTEND:20140519T235900
DTSTAMP:20260424T015019
CREATED:20140516T203343
LAST-MODIFIED:20140516T203343
UID:97266@https://singpromos.com
SUMMARY:Best Denki TV, Appliances & Other Electronics Offers 16 - 19 May 2014
DESCRIPTION:Best Denki continues their Best Brands Fair – check out some of new offers valid till 19 May 2014. For more information, visit [ https://singpromos.com/department-stores/best-denki-tv-appliances-other-electronics-offers-16-19-may-2014-97266/ ]. 
LOCATION:
URL:https://singpromos.com/department-stores/best-denki-tv-appliances-other-electronics-offers-16-19-may-2014-97266/
END:VEVENT
END:VCALENDAR