BEGIN:VCALENDAR
PRODID:-//SINGPromos.com//NONSGML v1.0//EN
VERSION:2.0
CALSCALE:GREGORIAN
METHOD:PUBLISH
X-WR-CALNAME:SINGPromos.com
X-ORIGINAL-URL:https://singpromos.com
X-WR-CALDESC:Events for SINGPromos.com
BEGIN:VEVENT
DTSTART:20140517T000000
DTEND:20140518T235900
DTSTAMP:20260422T032213
CREATED:20140517T191257
LAST-MODIFIED:20140517T191257
UID:97413@https://singpromos.com
SUMMARY:Courts Up To 1/2 Price Clearance Offers 17 - 18 May 2014
DESCRIPTION:Megastore and a Warehouse Clearance at Lot One. For more information, visit [ https://singpromos.com/department-stores/courts-up-to-12-price-clearance-offers-17-18-may-2014-97413/ ]. 
LOCATION:
URL:https://singpromos.com/department-stores/courts-up-to-12-price-clearance-offers-17-18-may-2014-97413/
END:VEVENT
END:VCALENDAR