BEGIN:VCALENDAR
PRODID:-//SINGPromos.com//NONSGML v1.0//EN
VERSION:2.0
CALSCALE:GREGORIAN
METHOD:PUBLISH
X-WR-CALNAME:SINGPromos.com
X-ORIGINAL-URL:https://singpromos.com
X-WR-CALDESC:Events for SINGPromos.com
BEGIN:VEVENT
DTSTART:20140522T000000
DTEND:20140608T235900
DTSTAMP:20260420T040715
CREATED:20140522T164919
LAST-MODIFIED:20140522T165116
UID:97945@https://singpromos.com
SUMMARY:Malaysia Airlines Promotion Air Fares 22 May - 8 Jun 2014
DESCRIPTION:Phuket from $237, Seoul from $499, Hong Kong from $265, Colombo from $376 and more. For more information, visit [ https://singpromos.com/airlines-flights/malaysia-airlines-promotion-air-fares-22-may-8-jun-2014-97945/ ]. 
LOCATION:
URL:https://singpromos.com/airlines-flights/malaysia-airlines-promotion-air-fares-22-may-8-jun-2014-97945/
END:VEVENT
END:VCALENDAR