BEGIN:VCALENDAR
PRODID:-//SINGPromos.com//NONSGML v1.0//EN
VERSION:2.0
CALSCALE:GREGORIAN
METHOD:PUBLISH
X-WR-CALNAME:SINGPromos.com
X-ORIGINAL-URL:https://singpromos.com
X-WR-CALDESC:Events for SINGPromos.com
BEGIN:VEVENT
DTSTART:20140523T000000
DTEND:20140525T235900
DTSTAMP:20260422T082233
CREATED:20140523T171022
LAST-MODIFIED:20140523T171350
UID:98081@https://singpromos.com
SUMMARY:Elitrend Buy 2 Get 1 FREE Promo 23 - 25 May 2014
DESCRIPTION:Buy 2 Get 1 FREE promotion for this weekend. For more information, visit [ https://singpromos.com/fashion-accessories/elitrend-buy-2-get-1-free-promo-23-25-may-2014-98081/ ]. 
LOCATION:
URL:https://singpromos.com/fashion-accessories/elitrend-buy-2-get-1-free-promo-23-25-may-2014-98081/
END:VEVENT
END:VCALENDAR