BEGIN:VCALENDAR
PRODID:-//SINGPromos.com//NONSGML v1.0//EN
VERSION:2.0
CALSCALE:GREGORIAN
METHOD:PUBLISH
X-WR-CALNAME:SINGPromos.com
X-ORIGINAL-URL:https://singpromos.com
X-WR-CALDESC:Events for SINGPromos.com
BEGIN:VEVENT
DTSTART:20140524T000000
DTEND:20140525T235900
DTSTAMP:20260420T061842
CREATED:20140524T182558
LAST-MODIFIED:20140524T182558
UID:98247@https://singpromos.com
SUMMARY:Courts Mega Raya Sale Offers 24 - 25 May 2014
DESCRIPTION:Courts is having a Mega Raya Sale. Check out the offers below valid from 24 May to 25 May 2014.. For more information, visit [ https://singpromos.com/department-stores/courts-mega-raya-sale-offers-24-25-may-2014-98247/ ]. 
LOCATION:
URL:https://singpromos.com/department-stores/courts-mega-raya-sale-offers-24-25-may-2014-98247/
END:VEVENT
END:VCALENDAR