BEGIN:VCALENDAR
PRODID:-//SINGPromos.com//NONSGML v1.0//EN
VERSION:2.0
CALSCALE:GREGORIAN
METHOD:PUBLISH
X-WR-CALNAME:SINGPromos.com
X-ORIGINAL-URL:https://singpromos.com
X-WR-CALDESC:Events for SINGPromos.com
BEGIN:VEVENT
DTSTART:20140523T000000
DTEND:20140629T235900
DTSTAMP:20260422T082148
CREATED:20140525T201619
LAST-MODIFIED:20140610T214132
UID:98356@https://singpromos.com
SUMMARY:Frasers Centrepoint Malls Monopoly of Fun Promotions 23 May - 29 Jun 2014
DESCRIPTION:Frasers Centrepoint Malls have the Monopoly on fun! From 23 May to 29 June 2014.. For more information, visit [ https://singpromos.com/shopping-malls/frasers-centrepoint-malls-monopoly-of-fun-promotions-23-may-29-jun-2014-98356/ ]. 
LOCATION:
URL:https://singpromos.com/shopping-malls/frasers-centrepoint-malls-monopoly-of-fun-promotions-23-may-29-jun-2014-98356/
END:VEVENT
END:VCALENDAR