BEGIN:VCALENDAR
PRODID:-//SINGPromos.com//NONSGML v1.0//EN
VERSION:2.0
CALSCALE:GREGORIAN
METHOD:PUBLISH
X-WR-CALNAME:SINGPromos.com
X-ORIGINAL-URL:https://singpromos.com
X-WR-CALDESC:Events for SINGPromos.com
BEGIN:VEVENT
DTSTART:20140523T000000
DTEND:20140627T235900
DTSTAMP:20260420T055442
CREATED:20140525T230755
LAST-MODIFIED:20140525T230755
UID:98427@https://singpromos.com
SUMMARY:Giant Hypermarket Cooling Appliances Offers 23 May - 27 Jun 2014
DESCRIPTION:Cool Savings at Giant, valid from 23 May to 27 June 2014. For more information, visit [ https://singpromos.com/home-appliances/giant-hypermarket-cooling-appliances-offers-23-may-27-jun-2014-98427/ ]. 
LOCATION:
URL:https://singpromos.com/home-appliances/giant-hypermarket-cooling-appliances-offers-23-may-27-jun-2014-98427/
END:VEVENT
END:VCALENDAR