BEGIN:VCALENDAR
PRODID:-//SINGPromos.com//NONSGML v1.0//EN
VERSION:2.0
CALSCALE:GREGORIAN
METHOD:PUBLISH
X-WR-CALNAME:SINGPromos.com
X-ORIGINAL-URL:https://singpromos.com
X-WR-CALDESC:Events for SINGPromos.com
BEGIN:VEVENT
DTSTART:20140523T000000
DTEND:20140605T235900
DTSTAMP:20260419T222142
CREATED:20140525T231749
LAST-MODIFIED:20140525T231749
UID:98430@https://singpromos.com
SUMMARY:Giant Hypermarket TVs, Groceries & Other Offers 23 May - 5 Jun 2014
DESCRIPTION:Toshiba TVs, coffee machines, groceries and other offers at Giant Hypermarket. For more information, visit [ https://singpromos.com/department-stores/giant-hypermarket-tvs-groceries-other-offers-23-may-5-jun-2014-98430/ ]. 
LOCATION:
URL:https://singpromos.com/department-stores/giant-hypermarket-tvs-groceries-other-offers-23-may-5-jun-2014-98430/
END:VEVENT
END:VCALENDAR