BEGIN:VCALENDAR
PRODID:-//SINGPromos.com//NONSGML v1.0//EN
VERSION:2.0
CALSCALE:GREGORIAN
METHOD:PUBLISH
X-WR-CALNAME:SINGPromos.com
X-ORIGINAL-URL:https://singpromos.com
X-WR-CALDESC:Events for SINGPromos.com
BEGIN:VEVENT
DTSTART:20140531T000000
DTEND:20140613T235900
DTSTAMP:20260422T082150
CREATED:20140531T142558
LAST-MODIFIED:20140531T142558
UID:99175@https://singpromos.com
SUMMARY:Emirates From $460 All-in Promotion Return Air Fares 31 May - 13 Jun 2014
DESCRIPTION:Book by 13 June 2014 and take advantage of these special fares. Colombo $460, Melbourne $651, Auckland $962, Sydney $686, Brisbane $649 and more. For more information, visit [ https://singpromos.com/airlines-flights/emirates-from-460-all-in-promotion-return-air-fares-31-may-13-jun-2014-99175/ ]. 
LOCATION:
URL:https://singpromos.com/airlines-flights/emirates-from-460-all-in-promotion-return-air-fares-31-may-13-jun-2014-99175/
END:VEVENT
END:VCALENDAR