BEGIN:VCALENDAR
PRODID:-//SINGPromos.com//NONSGML v1.0//EN
VERSION:2.0
CALSCALE:GREGORIAN
METHOD:PUBLISH
X-WR-CALNAME:SINGPromos.com
X-ORIGINAL-URL:https://singpromos.com
X-WR-CALDESC:Events for SINGPromos.com
BEGIN:VEVENT
DTSTART:20140606T000000
DTEND:20140606T235900
DTSTAMP:20260420T191243
CREATED:20140603T114330
LAST-MODIFIED:20140604T150833
UID:99517@https://singpromos.com
SUMMARY:Dunkin' Donuts Global Donut Day 6 Jun 2014
DESCRIPTION:Get a FREE donut with any beverage purchase on 6 June. For more information, visit [ https://singpromos.com/dining-restaurants-food/dunkin-donuts-global-donut-day-6-jun-2014-99517/ ]. 
LOCATION:
URL:https://singpromos.com/dining-restaurants-food/dunkin-donuts-global-donut-day-6-jun-2014-99517/
END:VEVENT
END:VCALENDAR