BEGIN:VCALENDAR
PRODID:-//SINGPromos.com//NONSGML v1.0//EN
VERSION:2.0
CALSCALE:GREGORIAN
METHOD:PUBLISH
X-WR-CALNAME:SINGPromos.com
X-ORIGINAL-URL:https://singpromos.com
X-WR-CALDESC:Events for SINGPromos.com
BEGIN:VEVENT
DTSTART:20140604T000000
DTEND:20140630T235900
DTSTAMP:20260422T082127
CREATED:20140604T142512
LAST-MODIFIED:20140604T112625
UID:99695@https://singpromos.com
SUMMARY:MiniInTheBox $5 OFF Storewide Coupon Code 4 - 30 Jun 2014
DESCRIPTION:Enjoy $3 OFF when you make a minimum purchase of $30. Or get $5 OFF when you make a minimum purchase of $50. For more information, visit [ https://singpromos.com/department-stores/miniinthebox-5-off-storewide-coupon-code-4-30-jun-2014-99695/ ]. 
LOCATION:
URL:https://singpromos.com/department-stores/miniinthebox-5-off-storewide-coupon-code-4-30-jun-2014-99695/
END:VEVENT
END:VCALENDAR