BEGIN:VCALENDAR
PRODID:-//SINGPromos.com//NONSGML v1.0//EN
VERSION:2.0
CALSCALE:GREGORIAN
METHOD:PUBLISH
X-WR-CALNAME:SINGPromos.com
X-ORIGINAL-URL:https://singpromos.com
X-WR-CALDESC:Events for SINGPromos.com
BEGIN:VEVENT
DTSTART:20140605T000000
DTEND:20140608T235900
DTSTAMP:20260422T082147
CREATED:20140605T112305
LAST-MODIFIED:20140607T185352
UID:99774@https://singpromos.com
SUMMARY:Starhub PC SHOW 2014 Smartphones, Tablets, Cable TV & Mobile/Home Broadband Offers 5 - 8 Jun 2014
DESCRIPTION:Broadband - FREE 3 Months, 21Mbps mobile broadband (1GB) and Home Phone Line; TV - Enjoy 50% OFF all Add-On Packs for first 3 months; Mobile - FREE 1GB local data upsize For 3-month. For more information, visit [ https://singpromos.com/telecoms/starhub-pc-show-2014-smartphones-tablets-cable-tv-mobilehome-broadband-offers-5-8-jun-2014-99774/ ]. 
LOCATION:
URL:https://singpromos.com/telecoms/starhub-pc-show-2014-smartphones-tablets-cable-tv-mobilehome-broadband-offers-5-8-jun-2014-99774/
END:VEVENT
END:VCALENDAR